BEGIN:VCALENDAR
VERSION:2.0
PRODID:-//sebbo.net//ical-generator//EN
NAME:Spring Parade of Homes 2026
X-WR-CALNAME:Spring Parade of Homes 2026
BEGIN:VEVENT
UID:f8cce924-a3e1-4c66-aedf-f298ad9d8325
SEQUENCE:0
DTSTAMP:20260420T101128Z
DTSTART;TZID=America/Chicago:20260411T170000
DTEND;TZID=America/Chicago:20260411T210000
SUMMARY:Spring Parade of Homes 2026
DESCRIPTION:https://nhba.cpjam.com/Spring-Parade-of-Homes-2026
URL;VALUE=URI:https://nhba.cpjam.com/Spring-Parade-of-Homes-2026
END:VEVENT
BEGIN:VEVENT
UID:46e1ae7e-eeff-4896-b5c5-4fc0f13dfa9d
SEQUENCE:0
DTSTAMP:20260420T101128Z
DTSTART;TZID=America/Chicago:20260412T170000
DTEND;TZID=America/Chicago:20260412T210000
SUMMARY:Spring Parade of Homes 2026
DESCRIPTION:https://nhba.cpjam.com/Spring-Parade-of-Homes-2026
URL;VALUE=URI:https://nhba.cpjam.com/Spring-Parade-of-Homes-2026
END:VEVENT
BEGIN:VEVENT
UID:0f53dacb-5394-45bc-8105-c5690252e417
SEQUENCE:0
DTSTAMP:20260420T101128Z
DTSTART;TZID=America/Chicago:20260418T170000
DTEND;TZID=America/Chicago:20260418T210000
SUMMARY:Spring Parade of Homes 2026
DESCRIPTION:https://nhba.cpjam.com/Spring-Parade-of-Homes-2026
URL;VALUE=URI:https://nhba.cpjam.com/Spring-Parade-of-Homes-2026
END:VEVENT
BEGIN:VEVENT
UID:47a949b4-717f-4e6a-9803-9a8d0ffc7a6e
SEQUENCE:0
DTSTAMP:20260420T101128Z
DTSTART;TZID=America/Chicago:20260419T170000
DTEND;TZID=America/Chicago:20260419T210000
SUMMARY:Spring Parade of Homes 2026
DESCRIPTION:https://nhba.cpjam.com/Spring-Parade-of-Homes-2026
URL;VALUE=URI:https://nhba.cpjam.com/Spring-Parade-of-Homes-2026
END:VEVENT
END:VCALENDAR